Workbook
Name CodigoActividad: [1]!Tabla2[Código]
Name CodigoActividad: [1]!Tabla2[Código]
Name CodigoActividad: [1]!Tabla2[Código]
Name CodigoActividad: [1]!Tabla2[Código]
Name CodigoActividad: #REF!
Name Insumos: Detalles!$A$540:$A$583
Name Insumos: #REF!
Name Insumos: Insumos!$A$540:$A$583
Name Ls_DepartamentosSRS: [1]Catalogo!$G$130:$G$142
Name Ls_DepartamentosSRS: [1]Catalogo!$G$130:$G$142
Name Ls_DepartamentosSRS: [1]Catalogo!$G$130:$G$142
Name Ls_DepartamentosSRS: [1]Catalogo!$G$130:$G$142
Name Ls_DepartamentosSRS: #REF!
Name ls_ejes_estrategicos: [2]!tbl_ejes_estrategicos[Ejes Estratégicos]
Name Ls_LinesEstategica: [1]Obj!$B$6:$B$9
Name Ls_LinesEstategica: [1]Obj!$B$6:$B$9
Name Ls_LinesEstategica: [1]Obj!$B$6:$B$9
Name Ls_LinesEstategica: [1]Obj!$B$6:$B$9
Name Ls_LinesEstategica: #REF!
Name Ls_Medio_Verificacion: [1]Catalogo!$B$148:$B$167
Name Ls_Medio_Verificacion: [1]Catalogo!$B$148:$B$167
Name Ls_Medio_Verificacion: [1]Catalogo!$B$148:$B$167
Name Ls_Medio_Verificacion: [1]Catalogo!$B$148:$B$167
Name Ls_Medio_Verificacion: #REF!
Name ls_Regiones: [1]Catalogo!$B$10:$B$19
Name ls_Regiones: [1]Catalogo!$B$10:$B$19
Name ls_Regiones: [1]Catalogo!$B$10:$B$19
Name ls_Regiones: [1]Catalogo!$B$10:$B$19
Name ls_Regiones: #REF!
Name ls_TiposAcciones: [1]Catalogo!$G$11:$G$14
Name ls_TiposAcciones: [1]Catalogo!$G$11:$G$14
Name ls_TiposAcciones: [1]Catalogo!$G$11:$G$14
Name ls_TiposAcciones: [1]Catalogo!$G$11:$G$14
Name ls_TiposAcciones: #REF!
Name lsAcabadosTextiles: Detalles!$C$2:$C$3
Name lsAcabadosTextiles: Insumos!$C$2:$C$3
Name lsAireAcondicionado: Detalles!$C$333:$C$334
Name lsAireAcondicionado: Insumos!$C$333:$C$334
Name lsAlimentosyBebidas: Detalles!$C$4:$C$23
Name lsAlimentosyBebidas: Insumos!$C$4:$C$23
Name lsArticulosdePlastico: Detalles!$C$24:$C$30
Name lsArticulosdePlastico: Insumos!$C$24:$C$30
Name lsElectrodomesticos: Detalles!$C$31:$C$35
Name lsElectrodomesticos: Insumos!$C$31:$C$35
Name lsEquiposComputos: Detalles!$C$132:$C$136
Name lsEquiposComputos: Insumos!$C$132:$C$136
Name lsEquiposMedicos: Detalles!$C$44:$C$131
Name lsEquiposMedicos: Insumos!$C$44:$C$131
Name lsEquiposSeguridad: Detalles!$C$137:$C$138
Name lsEquiposSeguridad: Insumos!$C$137:$C$138
Name lsEquiposTransporte: Detalles!$C$518:$C$520
Name lsEquiposTransporte: Insumos!$C$518:$C$520
Name lsEventosGenerales: Detalles!$C$139:$C$141
Name lsEventosGenerales: Insumos!$C$139:$C$141
Name lsFuentesFinanciamiento: [1]LSIns!$F$5:$F$8
Name lsFuentesFinanciamiento: [1]LSIns!$F$5:$F$8
Name lsFuentesFinanciamiento: [1]LSIns!$F$5:$F$8
Name lsFuentesFinanciamiento: [1]LSIns!$F$5:$F$8
Name lsFuentesFinanciamiento: #REF!
Name lsGasoil: Detalles!$C$142:$C$149

Sheet PPNE1
B1: Plan Operativo Anual
B2: Servicio Nacional de Salud
B3: Dirección de Planificación y Desarrollo | K3: 2025 | L3: 2026 | M3: 2027 | N3: 2028
B4: Programación Insumos por Producto Nivel Especializado | K4: Cibao Norte | L4: Cibao Sur | M4: Cibao Nordeste | N4: Cibao Noroeste | O4: Valdesia | P4: El Valle | Q4: Enriquillo | R4: Yuma | S4: Higüamo | T4: Ozama
B5: Año | C5: 2026
A6: Servicio Regional de Salud: | B6: Yuma
A7: CEAS | B7: HOSPITAL GENERAL Y DE ESPECIALIDADES NUESTRA SRA. DE LA ALTAGRACIA
A8: Productos Terminales | B8: Unidad de Medida | C8: Meta Lograda Año 2024 | D8: Meta Proyectada a Lograr Año 2025 | E8: Meta Proyectada Año 2026 | F8: Programación Trimestral | K8: Meta Lograda actual periodo Año 2025
F9: 1er. Trimestre | G9: 2do. Trimestre | H9: 3er. Trimestre | I9: 4to. Trimestre
A10: Servicio de Consulta Externa | B10: Consultas | C10: =SUM(C11:C12) -> 39504 | D10: =SUM(D11:D12) -> 42318.857 | E10: =SUM(E11:E12) -> 45564.591 | F10: =SUM(F11:F12) -> 9112.9183 | G10: =SUM(G11:G12) -> 13669.377 | H10: =SUM(H11:H12) -> 13669.377 | I10: =SUM(I11:I12) -> 9112.9183 | K10: =SUM(K11:K12) -> 24686
A11: Primera Vez | C11: 17502 | D11: =(K11/7)*12 -> 20247.429 | E11: =IF(C11="",0,(D11/C11)*D11) -> 23423.515 | F11: =$E11*0.2 -> 4684.703 | G11: =$E11*0.3 -> 7027.0546 | H11: =$E11*0.3 -> 7027.0546 | I11: =$E11*0.2 -> 4684.703 | K11: 11811
A12: Subsecuente | C12: 22002 | D12: =(K12/7)*12 -> 22071.429 | E12: =IF(C12="",0,(D12/C12)*D12) -> 22141.076 | F12: =$E12*0.2 -> 4428.2152 | G12: =$E12*0.3 -> 6642.3229 | H12: =$E12*0.3 -> 6642.3229 | I12: =$E12*0.2 -> 4428.2152 | K12: 12875
A13: Servicio de Emergencia | B13: Consultas | C13: =SUM(C14) -> 59068 | D13: =D14 -> 43525.714 | E13: =E14 -> 32072.997 | F13: =F14 -> 6414.5995 | G13: =G14 -> 9621.8992 | H13: =H14 -> 9621.8992 | I13: =I14 -> 6414.5995 | K13: =K14 -> 25390
A14: Emergencias | C14: 59068 | D14: =(K14/7)*12 -> 43525.714 | E14: =IF(C14="",0,(D14/C14)*D14) -> 32072.997 | F14: =$E14*0.2 -> 6414.5995 | G14: =$E14*0.3 -> 9621.8992 | H14: =$E14*0.3 -> 9621.8992 | I14: =$E14*0.2 -> 6414.5995 | K14: 25390
A15: Servicio Hospitalización | B15: Egresos | C15: =SUM(C16:C29) -> 40260 | D15: =SUM(D16:D29) -> 4450.2857 | E15: =SUM(E16:E29) -> 646.66138 | F15: =SUM(F16:F29) -> 129.33228 | G15: =SUM(G16:G29) -> 193.99841 | H15: =SUM(H16:H29) -> 193.99841 | I15: =SUM(I16:I29) -> 129.33228 | K15: =SUM(K16:K29) -> 2596
A16: Medicina General | D16: =(K16/7)*12 -> 0 | E16: =IF(C16="",0,(D16/C16)*D16) -> 0 | F16: =$E16*0.2 -> 0 | G16: =$E16*0.3 -> 0 | H16: =$E16*0.3 -> 0 | I16: =$E16*0.2 -> 0
A17: Cirugia General | C17: 5608 | D17: =(K17/7)*12 -> 618.85714 | E17: =IF(C17="",0,(D17/C17)*D17) -> 68.292468 | F17: =$E17*0.2 -> 13.658494 | G17: =$E17*0.3 -> 20.487741 | H17: =$E17*0.3 -> 20.487741 | I17: =$E17*0.2 -> 13.658494 | K17: 361
A18: Ginecología | D18: =(K18/7)*12 -> 0 | E18: =IF(C18="",0,(D18/C18)*D18) -> 0 | F18: =$E18*0.2 -> 0 | G18: =$E18*0.3 -> 0 | H18: =$E18*0.3 -> 0 | I18: =$E18*0.2 -> 0
A19: Obstetricia | D19: =(K19/7)*12 -> 0 | E19: =IF(C19="",0,(D19/C19)*D19) -> 0 | F19: =$E19*0.2 -> 0 | G19: =$E19*0.3 -> 0 | H19: =$E19*0.3 -> 0 | I19: =$E19*0.2 -> 0
A20: Pediatria | D20: =(K20/7)*12 -> 0 | E20: =IF(C20="",0,(D20/C20)*D20) -> 0 | F20: =$E20*0.2 -> 0 | G20: =$E20*0.3 -> 0 | H20: =$E20*0.3 -> 0 | I20: =$E20*0.2 -> 0
A21: Cardiologia | D21: =(K21/7)*12 -> 0 | E21: =IF(C21="",0,(D21/C21)*D21) -> 0 | F21: =$E21*0.2 -> 0 | G21: =$E21*0.3 -> 0 | H21: =$E21*0.3 -> 0 | I21: =$E21*0.2 -> 0
A22: Gastroenterologia | C22: 912 | D22: =(K22/7)*12 -> 154.28571 | E22: =IF(C22="",0,(D22/C22)*D22) -> 26.100967 | F22: =$E22*0.2 -> 5.2201933 | G22: =$E22*0.3 -> 7.83029 | H22: =$E22*0.3 -> 7.83029 | I22: =$E22*0.2 -> 5.2201933 | K22: 90
A23: Endocrinologia | D23: =(K23/7)*12 -> 0 | E23: =IF(C23="",0,(D23/C23)*D23) -> 0 | F23: =$E23*0.2 -> 0 | G23: =$E23*0.3 -> 0 | H23: =$E23*0.3 -> 0 | I23: =$E23*0.2 -> 0
A24: Medicina Interna | C24: 4784 | D24: =(K24/7)*12 -> 531.42857 | E24: =IF(C24="",0,(D24/C24)*D24) -> 59.033513 | F24: =$E24*0.2 -> 11.806703 | G24: =$E24*0.3 -> 17.710054 | H24: =$E24*0.3 -> 17.710054 | I24: =$E24*0.2 -> 11.806703 | K24: 310
A25: Ortopedia | C25: 6718 | D25: =(K25/7)*12 -> 593.14286 | E25: =IF(C25="",0,(D25/C25)*D25) -> 52.369522 | F25: =$E25*0.2 -> 10.473904 | G25: =$E25*0.3 -> 15.710857 | H25: =$E25*0.3 -> 15.710857 | I25: =$E25*0.2 -> 10.473904 | K25: 346
A26: Neumología | C26: 6580 | D26: =(K26/7)*12 -> 425.14286 | E26: =IF(C26="",0,(D26/C26)*D26) -> 27.469065 | F26: =$E26*0.2 -> 5.493813 | G26: =$E26*0.3 -> 8.2407196 | H26: =$E26*0.3 -> 8.2407196 | I26: =$E26*0.2 -> 5.493813 | K26: 248
A27: Cardiología | C27: 5106 | D27: =(K27/7)*12 -> 366.85714 | E27: =IF(C27="",0,(D27/C27)*D27) -> 26.358042 | F27: =$E27*0.2 -> 5.2716084 | G27: =$E27*0.3 -> 7.9074126 | H27: =$E27*0.3 -> 7.9074126 | I27: =$E27*0.2 -> 5.2716084 | K27: 214
A28: Cuidados Intensivos | C28: 6054 | D28: =(K28/7)*12 -> 519.42857 | E28: =IF(C28="",0,(D28/C28)*D28) -> 44.566574 | F28: =$E28*0.2 -> 8.9133149 | G28: =$E28*0.3 -> 13.369972 | H28: =$E28*0.3 -> 13.369972 | I28: =$E28*0.2 -> 8.9133149 | K28: 303
A29: Otros | C29: 4498 | D29: =(K29/7)*12 -> 1241.1429 | E29: =IF(C29="",0,(D29/C29)*D29) -> 342.47123 | F29: =$E29*0.2 -> 68.494246 | G29: =$E29*0.3 -> 102.74137 | H29: =$E29*0.3 -> 102.74137 | I29: =$E29*0.2 -> 68.494246 | K29: 724
A30: Servicios de Apoyo Diagnóstico | C30: =SUM(C31:C32) -> 358232 | D30: =SUM(D31:D32) -> 287364 | E30: =SUM(E31:E32) -> 238024.34 | F30: =SUM(F31:F32) -> 47604.868 | G30: =SUM(G31:G32) -> 71407.302 | H30: =SUM(H31:H32) -> 71407.302 | I30: =SUM(I31:I32) -> 47604.868 | K30: =SUM(K31:K32) -> 167629
A31: Análisis de Laboratorio | B31: Pruebas | C31: 309938 | D31: =(K31/7)*12 -> 266336.57 | E31: =IF(C31="",0,(D31/C31)*D31) -> 228868.9 | F31: =$E31*0.2 -> 45773.78 | G31: =$E31*0.3 -> 68660.67 | H31: =$E31*0.3 -> 68660.67 | I31: =$E31*0.2 -> 45773.78 | K31: 155363
A32: Servicio de Imágenes | B32: Imágenes | C32: 48294 | D32: =(K32/7)*12 -> 21027.429 | E32: =IF(C32="",0,(D32/C32)*D32) -> 9155.4386 | F32: =$E32*0.2 -> 1831.0877 | G32: =$E32*0.3 -> 2746.6316 | H32: =$E32*0.3 -> 2746.6316 | I32: =$E32*0.2 -> 1831.0877 | K32: 12266
A33: Indicadores de Producción
A34: Años | B34: Camas Disponibles | C34: Egresos Hospitalarios | D34: Día Cama Disponibles | E34: Dias Pacientes | F34: Promedio Días Estada | G34: Porcentaje Ocupacional | H34: Porcentaje nacimientos prematuros | I34: Porcentaje de cesárea
A35: 2022 | B35: 106 | C35: 19464 | D35: =+B35*365 -> 38690 | E35: 3115 | F35: =+E35/C35 -> 0.16003905 | G35: =+E35/D35*100 -> 8.051176 | H35: 0 | I35: 0
A36: 2023 | B36: 114 | C36: 18431 | D36: =+B36*365 -> 41610 | E36: 32.138 | F36: =+E36/C36 -> 0.0017436927 | G36: =+E36/D36*100 -> 0.077236241 | H36: 0 | I36: 0
A37: 2024 | B37: 114 | C37: 2700 | D37: =+B37*365 -> 41610 | E37: 32.138 | F37: =+E37/C37 -> 0.011902963 | G37: =+E37/D37*100 -> 0.077236241 | H37: 0 | I37: 0

Sheet PPNE2
A2: Servicio Nacional de Salud
A3: Dirección de Planificación y Desarrollo
A4: Programación de actividades
A6: Servicio Regional de Salud: | B6: Yuma
A7: CEAS: | B7: HOSPITAL GENERAL Y DE ESPECIALIDADES NUESTRA SRA. DE LA ALTAGRACIA
A8: Resultados Esperados | B8: Productos | C8: Código | D8: Actividades Programables Presupuestables | E8: Ene | F8: Feb | G8: Mar | H8: Abr | I8: May | J8: Jun | K8: Jul | L8: Ago | M8: Sep | N8: Oct | O8: Nov | P8: Dic | Q8: Total de Acciones | R8: Medio de Verificación 1 | S8: Medio de Verificación 2 | T8: Medio de Verificación 3 | U8: Observaciones/ Comentarios | V8: Área Responsable
A9: 1.5 Reducida la morbilidad y mortalidad prematura por enfermedades no transmisibles en personas de 30 a 69 años, en un 20% al año 2028, mediante la implementación de intervenciones integrales de prevención, diagnóstico temprano y tratamiento oportuno en los establecimientos de la Red Pública. | B9: 1.5.2 Las víctimas de violencia de género e intrafamiliar reciben atención integral, oportuna y segura en los servicios de salud. | C9: 1.5.2.01 | D9: Reporte de estadísticas de los casos de violencia de género e intrafamiliar. | E9: 1 | F9: 1 | G9: 1 | H9: 1 | I9: 1 | J9: 1 | K9: 1 | L9: 1 | M9: 1 | N9: 1 | O9: 1 | P9: 1 | Q9: =SUM(E9:P9) -> 12 | R9: Reporte | U9: Acuerdo CONANI | V9: Género
A10: 1.6 Incrementado el acceso oportuno a servicios de salud de calidad, aumentando el acceso a servicios preventivos de 2.23% de la población prioritaria en 2023 al 5.24% en 2028 en todas las regiones del país. | B10: 1.6.5 La población usuaria recibe servicios odontológicos fortalecidos y de calidad mediante la ejecución de planes de mejora de la atención dental. | C10: 1.6.5.01 | D10: Capacitaciones a RRHH de las areas de odontología de acuerdo a las necesidades. | G10: 1 | J10: 1 | M10: 1 | Q10: =SUM(E10:P10) -> 3 | R10: Listado de participación | S10: Plan | V10: Odontología
A11: 1.6 Incrementado el acceso oportuno a servicios de salud de calidad, aumentando el acceso a servicios preventivos de 2.23% de la población prioritaria en 2023 al 5.24% en 2028 en todas las regiones del país. | B11: 1.6.5 La población usuaria recibe servicios odontológicos fortalecidos y de calidad mediante la ejecución de planes de mejora de la atención dental. | C11: 1.6.5.02 | D11: Desarrollo de plan de acciones para el acondicionamiento de infraestructura, mantenimiento de equipos y equipamiento de las áreas de odontología EES | G11: 1 | J11: 1 | M11: 1 | O11: 1 | Q11: =SUM(E11:P11) -> 4 | R11: Informe | S11: Plan | V11: Odontología
A12: 1.6 Incrementado el acceso oportuno a servicios de salud de calidad, aumentando el acceso a servicios preventivos de 2.23% de la población prioritaria en 2023 al 5.24% en 2028 en todas las regiones del país. | B12: 1.6.5 La población usuaria recibe servicios odontológicos fortalecidos y de calidad mediante la ejecución de planes de mejora de la atención dental. | C12: 1.6.5.03 | D12: Desarrollo del Programa Fomento de la Salud bucal. | H12: 1 | L12: 1 | N12: 1 | Q12: =SUM(E12:P12) -> 3 | R12: Informe | V12: Odontología
A13: 1.6 Incrementado el acceso oportuno a servicios de salud de calidad, aumentando el acceso a servicios preventivos de 2.23% de la población prioritaria en 2023 al 5.24% en 2028 en todas las regiones del país. | B13: 1.6.5 La población usuaria recibe servicios odontológicos fortalecidos y de calidad mediante la ejecución de planes de mejora de la atención dental. | C13: 1.6.5.04 | D13: Desarrollo del Programa Hospitales libre de caries | H13: 1 | M13: 1 | Q13: =SUM(E13:P13) -> 2 | R13: Informe | V13: Odontología
A14: 1.7 Aumentada la disponibilidad de medicamentos esenciales en los establecimientos de la Red Pública de Servicios de Salud, incrementando el cumplimiento promedio de abastecimiento del 88% en 2023 al 93% en 2028 en todas las regiones del país. | B14: 1.7.1 Pacientes reciben medicamentos esenciales para el tratamiento adecuado y oportuno de sus condiciones de salud. | C14: 1.7.1.01 | D14: Reunión Comité Farmaco Terapeutico (CFT) Hospitalario y promoción del uso racional de los medicamentos. | E14: 1 | H14: 1 | K14: 1 | N14: 1 | Q14: =SUM(E14:P14) -> 4 | R14: Listado de participación | S14: Minuta | V14: Medicamentos
A15: 1.8 Superadas las deficiencias en la organización e implementación de las Redes Integradas de Servicios de Salud (RISS) beneficiando a toda la población que utiliza los servicios de salud de la Red Pública, aumentando del 38% en 2023 al 50% en 2028 en todo el territorio nacional. | B15: 1.8.2 La población recibe acceso equitativo a servicios de salud, incluidos los de emergencia, de calidad, seguros, integrales, continuos e inclusivos, mediante redes integradas que incorporan mejora continua de procesos y avances tecnológicos. | C15: 1.8.2.01 | D15: Implementación del Modelo hospitalario y flujos de Asistencia Emergencias y Urgencias | J15: 1 | Q15: =SUM(E15:P15) -> 1 | R15: Reporte | V15: Emergencia
A16: 1.8 Superadas las deficiencias en la organización e implementación de las Redes Integradas de Servicios de Salud (RISS) beneficiando a toda la población que utiliza los servicios de salud de la Red Pública, aumentando del 38% en 2023 al 50% en 2028 en todo el territorio nacional. | B16: 1.8.2 La población recibe acceso equitativo a servicios de salud, incluidos los de emergencia, de calidad, seguros, integrales, continuos e inclusivos, mediante redes integradas que incorporan mejora continua de procesos y avances tecnológicos. | C16: 1.8.2.02 | D16: Socializacion e implementación del RAC-Triaje en las Salas de Emergencias Centros Hospitalarios | J16: 1 | O16: 1 | Q16: =SUM(E16:P16) -> 2 | R16: Listado de participación | S16: Reporte | V16: Emergencia
A17: 1.8 Superadas las deficiencias en la organización e implementación de las Redes Integradas de Servicios de Salud (RISS) beneficiando a toda la población que utiliza los servicios de salud de la Red Pública, aumentando del 38% en 2023 al 50% en 2028 en todo el territorio nacional. | B17: 1.8.2 La población recibe acceso equitativo a servicios de salud, incluidos los de emergencia, de calidad, seguros, integrales, continuos e inclusivos, mediante redes integradas que incorporan mejora continua de procesos y avances tecnológicos. | C17: 1.8.2.03 | D17: Llenado de historia clinica de emergencias y registro de todos los pacientes del libro de emergencias | M17: 1 | Q17: =SUM(E17:P17) -> 1 | R17: Reporte | V17: Emergencia
A18: 1.8 Superadas las deficiencias en la organización e implementación de las Redes Integradas de Servicios de Salud (RISS) beneficiando a toda la población que utiliza los servicios de salud de la Red Pública, aumentando del 38% en 2023 al 50% en 2028 en todo el territorio nacional. | B18: 1.8.2 La población recibe acceso equitativo a servicios de salud, incluidos los de emergencia, de calidad, seguros, integrales, continuos e inclusivos, mediante redes integradas que incorporan mejora continua de procesos y avances tecnológicos. | C18: 1.8.2.04 | D18: Implementación del procedimiento para la entrega, recibo y reposicion de carro de paro | F18: 1 | I18: 1 | L18: 1 | O18: 1 | Q18: =SUM(E18:P18) -> 4 | R18: Formularios de verificacion de Carro de paro (Apertura, Stock y Verificacion de desfibrilador) | V18: Emergencia
A19: 1.8 Superadas las deficiencias en la organización e implementación de las Redes Integradas de Servicios de Salud (RISS) beneficiando a toda la población que utiliza los servicios de salud de la Red Pública, aumentando del 38% en 2023 al 50% en 2028 en todo el territorio nacional. | B19: 1.8.2 La población recibe acceso equitativo a servicios de salud, incluidos los de emergencia, de calidad, seguros, integrales, continuos e inclusivos, mediante redes integradas que incorporan mejora continua de procesos y avances tecnológicos. | C19: 1.8.2.05 | D19: Registros en el tablero de Indicadores de Gestión de las Salas de Emergencias de los Centros de Salud. | G19: 1 | J19: 1 | M19: 1 | P19: 1 | Q19: =SUM(E19:P19) -> 4 | R19: Reporte | V19: Emergencia
A20: 1.8 Superadas las deficiencias en la organización e implementación de las Redes Integradas de Servicios de Salud (RISS) beneficiando a toda la población que utiliza los servicios de salud de la Red Pública, aumentando del 38% en 2023 al 50% en 2028 en todo el territorio nacional. | B20: 1.8.2 La población recibe acceso equitativo a servicios de salud, incluidos los de emergencia, de calidad, seguros, integrales, continuos e inclusivos, mediante redes integradas que incorporan mejora continua de procesos y avances tecnológicos. | C20: 1.8.2.06 | D20: Socialización de los procedimientos de traslado de pacientes | I20: 1 | Q20: =SUM(E20:P20) -> 1 | R20: Listado de participación | S20: Agenda | V20: Emergencia
A21: 1.8 Superadas las deficiencias en la organización e implementación de las Redes Integradas de Servicios de Salud (RISS) beneficiando a toda la población que utiliza los servicios de salud de la Red Pública, aumentando del 38% en 2023 al 50% en 2028 en todo el territorio nacional. | B21: 1.8.2 La población recibe acceso equitativo a servicios de salud, incluidos los de emergencia, de calidad, seguros, integrales, continuos e inclusivos, mediante redes integradas que incorporan mejora continua de procesos y avances tecnológicos. | C21: 1.8.2.07 | D21: Elaboración y/o actualización de los Planes de Emergencias y Desastres Hospitalarios | G21: 1 | Q21: =SUM(E21:P21) -> 1 | R21: Plan | V21: Emergencia
A22: 1.8 Superadas las deficiencias en la organización e implementación de las Redes Integradas de Servicios de Salud (RISS) beneficiando a toda la población que utiliza los servicios de salud de la Red Pública, aumentando del 38% en 2023 al 50% en 2028 en todo el territorio nacional. | B22: 1.8.2 La población recibe acceso equitativo a servicios de salud, incluidos los de emergencia, de calidad, seguros, integrales, continuos e inclusivos, mediante redes integradas que incorporan mejora continua de procesos y avances tecnológicos. | C22: 1.8.2.08 | D22: Reunion del comité de emergencias para socializacion del plan Hospitalarios Emergencias de salud publica y desastres naturales con el personal del hospital. | G22: 1 | J22: 1 | M22: 1 | Q22: =SUM(E22:P22) -> 3 | R22: Listado de participación | S22: Minuta | V22: Emergencia
A23: 1.8 Superadas las deficiencias en la organización e implementación de las Redes Integradas de Servicios de Salud (RISS) beneficiando a toda la población que utiliza los servicios de salud de la Red Pública, aumentando del 38% en 2023 al 50% en 2028 en todo el territorio nacional. | B23: 1.8.2 La población recibe acceso equitativo a servicios de salud, incluidos los de emergencia, de calidad, seguros, integrales, continuos e inclusivos, mediante redes integradas que incorporan mejora continua de procesos y avances tecnológicos. | C23: 1.8.2.09 | D23: Simulacro para probar la funcionabilidad de los Planes de Emergencias y Desastres Hospitalarios. | N23: 1 | Q23: =SUM(E23:P23) -> 1 | R23: Listado de participación | S23: Reporte | V23: Emergencia
A24: 1.8 Superadas las deficiencias en la organización e implementación de las Redes Integradas de Servicios de Salud (RISS) beneficiando a toda la población que utiliza los servicios de salud de la Red Pública, aumentando del 38% en 2023 al 50% en 2028 en todo el territorio nacional. | B24: 1.8.2 La población recibe acceso equitativo a servicios de salud, incluidos los de emergencia, de calidad, seguros, integrales, continuos e inclusivos, mediante redes integradas que incorporan mejora continua de procesos y avances tecnológicos. | C24: 1.8.2.10 | D24: Reunión con el Comite Hospitalario de Emergencias y Desastres para preparar el Operativo de Navidad y Año Nuevo comité de emergencias | P24: 1 | Q24: =SUM(E24:P24) -> 1 | R24: Listado de participación | S24: Minuta | V24: Emergencia
A25: 1.8 Superadas las deficiencias en la organización e implementación de las Redes Integradas de Servicios de Salud (RISS) beneficiando a toda la población que utiliza los servicios de salud de la Red Pública, aumentando del 38% en 2023 al 50% en 2028 en todo el territorio nacional. | B25: 1.8.2 La población recibe acceso equitativo a servicios de salud, incluidos los de emergencia, de calidad, seguros, integrales, continuos e inclusivos, mediante redes integradas que incorporan mejora continua de procesos y avances tecnológicos. | C25: 1.8.2.11 | D25: Reunión con el Comite Hospitalario de Emergencias y Desastres para preparar el Operativo de Semana Santa comité de emergencias | G25: 1 | Q25: =SUM(E25:P25) -> 1 | R25: Listado de participación | S25: Minuta | V25: Emergencia
A26: 1.8 Superadas las deficiencias en la organización e implementación de las Redes Integradas de Servicios de Salud (RISS) beneficiando a toda la población que utiliza los servicios de salud de la Red Pública, aumentando del 38% en 2023 al 50% en 2028 en todo el territorio nacional. | B26: 1.8.2 La población recibe acceso equitativo a servicios de salud, incluidos los de emergencia, de calidad, seguros, integrales, continuos e inclusivos, mediante redes integradas que incorporan mejora continua de procesos y avances tecnológicos. | C26: 1.8.2.12 | D26: Reunión con el Comite Hospitalario de Emergencias y Desastres para respuesta a Temporada Ciclonica y Eventos Hidrometeorologicos comité de emergencias | E26: 1 | O26: 1 | Q26: =SUM(E26:P26) -> 2 | R26: Listado de participación | S26: Minuta | V26: Emergencia
A27: 1.8 Superadas las deficiencias en la organización e implementación de las Redes Integradas de Servicios de Salud (RISS) beneficiando a toda la población que utiliza los servicios de salud de la Red Pública, aumentando del 38% en 2023 al 50% en 2028 en todo el territorio nacional. | B27: 1.8.2 La población recibe acceso equitativo a servicios de salud, incluidos los de emergencia, de calidad, seguros, integrales, continuos e inclusivos, mediante redes integradas que incorporan mejora continua de procesos y avances tecnológicos. | C27: 1.8.2.13 | D27: Reunión con el Comite Hospitalario de Emergencias y Desastres para la respuesta alta demanda asistencial por siniestros siniestro viales, emergencias de salud, desastres naturales y cambio climaticos. | I27: 1 | Q27: =SUM(E27:P27) -> 1 | R27: Listado de participación | S27: Minuta | V27: Emergencia
A28: 1.8 Superadas las deficiencias en la organización e implementación de las Redes Integradas de Servicios de Salud (RISS) beneficiando a toda la población que utiliza los servicios de salud de la Red Pública, aumentando del 38% en 2023 al 50% en 2028 en todo el territorio nacional. | B28: 1.8.3 La población usuaria recibe servicios hospitalarios fortalecidos, integrales y de calidad mediante la mejora continua de procesos y servicios, la optimización de la gestión y el fortalecimiento de la infraestructura, el equipamiento y las capacidades del personal. | C28: 1.8.3.01 | D28: Supervision de indicadores de calidad en el programa de hemodialisis y diálisis peritoneal, para los centros que apliquen para el programa. | E28: 1 | F28: 1 | G28: 1 | H28: 1 | I28: 1 | J28: 1 | K28: 1 | L28: 1 | M28: 1 | N28: 1 | O28: 1 | P28: 1 | Q28: =SUM(E28:P28) -> 12 | R28: Informe | V28: Calidad en los Servicios de Salud
A29: 1.8 Superadas las deficiencias en la organización e implementación de las Redes Integradas de Servicios de Salud (RISS) beneficiando a toda la población que utiliza los servicios de salud de la Red Pública, aumentando del 38% en 2023 al 50% en 2028 en todo el territorio nacional. | B29: 1.8.3 La población usuaria recibe servicios hospitalarios fortalecidos, integrales y de calidad mediante la mejora continua de procesos y servicios, la optimización de la gestión y el fortalecimiento de la infraestructura, el equipamiento y las capacidades del personal. | C29: 1.8.3.02 | D29: Plan de mejora a partir de los resultados de la evaluacion de indicadores de calidad en el programa de hemodialisis y diálisis peritoneal, para los centros que apliquen para el programa. | G29: 1 | J29: 1 | M29: 1 | P29: 1 | Q29: =SUM(E29:P29) -> 4 | R29: Protocolo | V29: Calidad en los Servicios de Salud
A30: 1.8 Superadas las deficiencias en la organización e implementación de las Redes Integradas de Servicios de Salud (RISS) beneficiando a toda la población que utiliza los servicios de salud de la Red Pública, aumentando del 38% en 2023 al 50% en 2028 en todo el territorio nacional. | B30: 1.8.3 La población usuaria recibe servicios hospitalarios fortalecidos, integrales y de calidad mediante la mejora continua de procesos y servicios, la optimización de la gestión y el fortalecimiento de la infraestructura, el equipamiento y las capacidades del personal. | C30: 1.8.3.03 | D30: Seguimiento a los planes de mejora de la evaluacion de indicadores de calidad en el programa de hemodialisis y diálisis peritoneal, para los centros que apliquen para el programa. | H30: 1 | K30: 1 | N30: 1 | Q30: =SUM(E30:P30) -> 3 | R30: Informe | S30: Plan | V30: Calidad en los Servicios de Salud
A31: 1.8 Superadas las deficiencias en la organización e implementación de las Redes Integradas de Servicios de Salud (RISS) beneficiando a toda la población que utiliza los servicios de salud de la Red Pública, aumentando del 38% en 2023 al 50% en 2028 en todo el territorio nacional. | B31: 1.8.3 La población usuaria recibe servicios hospitalarios fortalecidos, integrales y de calidad mediante la mejora continua de procesos y servicios, la optimización de la gestión y el fortalecimiento de la infraestructura, el equipamiento y las capacidades del personal. | C31: 1.8.3.04 | D31: Seguimiento al plan de mejora de las evaluaciones de la calidad de los servicios de nutrición | G31: 1 | J31: 1 | M31: 1 | P31: 1 | Q31: =SUM(E31:P31) -> 4 | R31: Informe | S31: Plan | V31: Nutrición
A32: 1.8 Superadas las deficiencias en la organización e implementación de las Redes Integradas de Servicios de Salud (RISS) beneficiando a toda la población que utiliza los servicios de salud de la Red Pública, aumentando del 38% en 2023 al 50% en 2028 en todo el territorio nacional. | B32: 1.8.3 La población usuaria recibe servicios hospitalarios fortalecidos, integrales y de calidad mediante la mejora continua de procesos y servicios, la optimización de la gestión y el fortalecimiento de la infraestructura, el equipamiento y las capacidades del personal. | C32: 1.8.3.05 | D32: Implementacion de los procesos de bioseguridad hospitalaria | G32: 1 | J32: 1 | M32: 1 | P32: 1 | Q32: =SUM(E32:P32) -> 4 | R32: Informe | V32: Epidemiología
A33: 1.8 Superadas las deficiencias en la organización e implementación de las Redes Integradas de Servicios de Salud (RISS) beneficiando a toda la población que utiliza los servicios de salud de la Red Pública, aumentando del 38% en 2023 al 50% en 2028 en todo el territorio nacional. | B33: 1.8.3 La población usuaria recibe servicios hospitalarios fortalecidos, integrales y de calidad mediante la mejora continua de procesos y servicios, la optimización de la gestión y el fortalecimiento de la infraestructura, el equipamiento y las capacidades del personal. | C33: 1.8.3.06 | D33: Elaboración de los planes de mejora a partir de los resultados de evaluacion de procesos de bioseguridad hospitalaria | G33: 1 | J33: 1 | M33: 1 | Q33: =SUM(E33:P33) -> 3 | R33: Plan | V33: Epidemiología
A34: 1.8 Superadas las deficiencias en la organización e implementación de las Redes Integradas de Servicios de Salud (RISS) beneficiando a toda la población que utiliza los servicios de salud de la Red Pública, aumentando del 38% en 2023 al 50% en 2028 en todo el territorio nacional. | B34: 1.8.3 La población usuaria recibe servicios hospitalarios fortalecidos, integrales y de calidad mediante la mejora continua de procesos y servicios, la optimización de la gestión y el fortalecimiento de la infraestructura, el equipamiento y las capacidades del personal. | C34: 1.8.3.07 | D34: Seguimiento a los planes de mejora de evaluación de procesos de bioseguridad hospitalaria | G34: 1 | J34: 1 | M34: 1 | Q34: =SUM(E34:P34) -> 3 | R34: Informe | S34: Plan | V34: Epidemiología
A35: 1.8 Superadas las deficiencias en la organización e implementación de las Redes Integradas de Servicios de Salud (RISS) beneficiando a toda la población que utiliza los servicios de salud de la Red Pública, aumentando del 38% en 2023 al 50% en 2028 en todo el territorio nacional. | B35: 1.8.3 La población usuaria recibe servicios hospitalarios fortalecidos, integrales y de calidad mediante la mejora continua de procesos y servicios, la optimización de la gestión y el fortalecimiento de la infraestructura, el equipamiento y las capacidades del personal. | C35: 1.8.3.08 | D35: Notificación oportuna de las enfermedades bajo vigilancia epidemiológica (Epi 1 y 2) | E35: 1 | F35: 1 | G35: 1 | H35: 1 | I35: 1 | J35: 1 | K35: 1 | L35: 1 | M35: 1 | N35: 1 | O35: 1 | P35: 1 | Q35: =SUM(E35:P35) -> 12 | R35: Reporte | V35: Epidemiología
A36: 1.8 Superadas las deficiencias en la organización e implementación de las Redes Integradas de Servicios de Salud (RISS) beneficiando a toda la población que utiliza los servicios de salud de la Red Pública, aumentando del 38% en 2023 al 50% en 2028 en todo el territorio nacional. | B36: 1.8.3 La población usuaria recibe servicios hospitalarios fortalecidos, integrales y de calidad mediante la mejora continua de procesos y servicios, la optimización de la gestión y el fortalecimiento de la infraestructura, el equipamiento y las capacidades del personal. | C36: 1.8.3.09 | D36: Implementación del procedimiento de hosteleria hospitalaria | J36: 1 | P36: 1 | Q36: =SUM(E36:P36) -> 2 | R36: Informe | V36: Hostelería Hospitalaria
A37: 1.8 Superadas las deficiencias en la organización e implementación de las Redes Integradas de Servicios de Salud (RISS) beneficiando a toda la población que utiliza los servicios de salud de la Red Pública, aumentando del 38% en 2023 al 50% en 2028 en todo el territorio nacional. | B37: 1.8.3 La población usuaria recibe servicios hospitalarios fortalecidos, integrales y de calidad mediante la mejora continua de procesos y servicios, la optimización de la gestión y el fortalecimiento de la infraestructura, el equipamiento y las capacidades del personal. | C37: 1.8.3.10 | D37: Diagnóstico situacional de la conformación de los comités hospitalarios | G37: 1 | J37: 1 | M37: 1 | P37: 1 | Q37: =SUM(E37:P37) -> 4 | R37: Informe | V37: Subdirección Médica
A38: 1.8 Superadas las deficiencias en la organización e implementación de las Redes Integradas de Servicios de Salud (RISS) beneficiando a toda la población que utiliza los servicios de salud de la Red Pública, aumentando del 38% en 2023 al 50% en 2028 en todo el territorio nacional. | B38: 1.8.3 La población usuaria recibe servicios hospitalarios fortalecidos, integrales y de calidad mediante la mejora continua de procesos y servicios, la optimización de la gestión y el fortalecimiento de la infraestructura, el equipamiento y las capacidades del personal. | C38: 1.8.3.11 | D38: Conformacion de los comité Hospitalarios | G38: 1 | J38: 1 | M38: 1 | P38: 1 | Q38: =SUM(E38:P38) -> 4 | R38: Reporte | T38: Matriz | V38: Subdirección Médica
A39: 1.8 Superadas las deficiencias en la organización e implementación de las Redes Integradas de Servicios de Salud (RISS) beneficiando a toda la población que utiliza los servicios de salud de la Red Pública, aumentando del 38% en 2023 al 50% en 2028 en todo el territorio nacional. | B39: 1.8.3 La población usuaria recibe servicios hospitalarios fortalecidos, integrales y de calidad mediante la mejora continua de procesos y servicios, la optimización de la gestión y el fortalecimiento de la infraestructura, el equipamiento y las capacidades del personal. | C39: 1.8.3.12 | D39: Evaluacion de la Metodologia de Gestion Productiva | G39: 1 | J39: 1 | M39: 1 | P39: 1 | Q39: =SUM(E39:P39) -> 4 | R39: Informe | V39: Subdirección Médica
A40: 1.8 Superadas las deficiencias en la organización e implementación de las Redes Integradas de Servicios de Salud (RISS) beneficiando a toda la población que utiliza los servicios de salud de la Red Pública, aumentando del 38% en 2023 al 50% en 2028 en todo el territorio nacional. | B40: 1.8.3 La población usuaria recibe servicios hospitalarios fortalecidos, integrales y de calidad mediante la mejora continua de procesos y servicios, la optimización de la gestión y el fortalecimiento de la infraestructura, el equipamiento y las capacidades del personal. | C40: 1.8.3.13 | D40: Plan de mejora a partir de los resultados de la evaluacion de la metodologia de gestion productiva | H40: 1 | K40: 1 | N40: 1 | P40: 1 | Q40: =SUM(E40:P40) -> 4 | R40: Plan | V40: Subdirección Médica
A41: 1.8 Superadas las deficiencias en la organización e implementación de las Redes Integradas de Servicios de Salud (RISS) beneficiando a toda la población que utiliza los servicios de salud de la Red Pública, aumentando del 38% en 2023 al 50% en 2028 en todo el territorio nacional. | B41: 1.8.3 La población usuaria recibe servicios hospitalarios fortalecidos, integrales y de calidad mediante la mejora continua de procesos y servicios, la optimización de la gestión y el fortalecimiento de la infraestructura, el equipamiento y las capacidades del personal. | C41: 1.8.3.14 | D41: Seguimiento a los planes de mejora de la MGP | I41: 1 | L41: 1 | P41: 1 | Q41: =SUM(E41:P41) -> 3 | R41: Informe | S41: Plan | V41: Subdirección Médica
A42: 1.8 Superadas las deficiencias en la organización e implementación de las Redes Integradas de Servicios de Salud (RISS) beneficiando a toda la población que utiliza los servicios de salud de la Red Pública, aumentando del 38% en 2023 al 50% en 2028 en todo el territorio nacional. | B42: 1.8.3 La población usuaria recibe servicios hospitalarios fortalecidos, integrales y de calidad mediante la mejora continua de procesos y servicios, la optimización de la gestión y el fortalecimiento de la infraestructura, el equipamiento y las capacidades del personal. | C42: 1.8.3.15 | D42: Supervisión de la calidad de los servicios de nutrición | E42: 1 | F42: 1 | G42: 1 | H42: 1 | I42: 1 | J42: 1 | K42: 1 | L42: 1 | M42: 1 | N42: 1 | O42: 1 | P42: 1 | Q42: =SUM(E42:P42) -> 12 | R42: Informe | V42: Nutrición
...

Sheet Sheet1
E2: Informe | F2: 1.1 Reducidos los niveles de morbilidad y mortalidad materna e infantil por causas prevenibles en la población materno-infantil del país, disminuyendo la mortalidad materna de 127.33 y la mortalidad infantil de 18.44 en 2023 a 89.13 y 16.56 en 2028 en todas las regiones del territorio nacional.
E3: Listado de participación | F3: 1.2 Aumentado el cumplimiento normativo para reducir la incidencia de complicaciones neonatales y maternas, pasando de un promedio del 75.5% en el año 2023 al 88% en el año 2028 en todas las regiones de la Red Pública de Servicios de Salud.
E4: Fotos | F4: 1.3 Reducido el embarazo en adolescentes atendidas en los establecimientos de la Red Pública en un 20% al año 2028, mediante el fortalecimiento del acceso a servicios integrales de salud sexual y reproductiva.
E5: Agenda | F5: 1.4 Disminuida la proporción de partos por cesárea en hospitales del sector público pasando de 48.83 en el 2023 a 34 en el 2028.
E6: Plan | F6: 1.5 Reducida la morbilidad y mortalidad prematura por enfermedades no transmisibles en personas de 30 a 69 años, en un 20% al año 2028, mediante la implementación de intervenciones integrales de prevención, diagnóstico temprano y tratamiento oportuno en los establecimientos de la Red Pública.
E7: Protocolo | F7: 1.6 Incrementado el acceso oportuno a servicios de salud de calidad, aumentando el acceso a servicios preventivos de 2.23% de la población prioritaria en 2023 al 5.24% en 2028 en todas las regiones del país.
E8: Manual | F8: 1.7 Aumentada la disponibilidad de medicamentos esenciales en los establecimientos de la Red Pública de Servicios de Salud, incrementando el cumplimiento promedio de abastecimiento del 88% en 2023 al 93% en 2028 en todas las regiones del país.
E9: Resolución | F9: 1.8 Superadas las deficiencias en la organización e implementación de las Redes Integradas de Servicios de Salud (RISS) beneficiando a toda la población que utiliza los servicios de salud de la Red Pública, aumentando del 38% en 2023 al 50% en 2028 en todo el territorio nacional.
E10: Boletin | F10: 1.9 Fortalecida la implementación del Modelo de Atención en Salud beneficiando a la población usuaria del primer nivel de atención, incrementando la adscripción del 7% en 2023 al 80% en 2028, en todas las regiones del país.
E11: Reporte | F11: 1.10 Mejorada la distribución y presencia del Primer Nivel de Atención respecto a la sectorización, incrementando la presencia del Primer Nivel del 70% en 2023 al 71% en 2028 en todas las regiones del territorio nacional.
E12: Minuta | F12: 1.11 Fortalecida la continuidad en la atención de las puérperas y recién nacidos, aumentando la captación oportuna del 30% en 2023 al 50% en 2028 en el Primer Nivel de Atención.
E13: Hoja de supervisión | F13: 1.12 Superadas las deficiencias en la organización e implementación de las Redes Integradas de Servicios de Salud (RISS) beneficiando a toda la población que utiliza los servicios de salud de la Red Pública, aumentando del 38% en 2023 al 50% en 2028 en todo el territorio nacional.
... E20: Otros | F20: 3.4 Alcanzado un cumplimiento mínimo del 90% de las metas de planificación y ejecución presupuestaria, optimizando la asignación y uso de recursos.
F21: 3.5 Atendidas las solicitudes de información recibidas en los plazos establecidos, con reportes de cumplimiento mensual y mecanismos de retroalimentación al usuario.
F22: 3.6 Registradas y procesadas en el Sistema Electrónico de Compras Públicas las adquisiciones y contrataciones institucionales y de la Red Pública.
F23: 3.7 Incrementando progresivamente el índice de uso de las TIC y Gobierno Digital en la Red Pública de Servicios de Salud.
F24: 3.8 Implementados y operativos los controles internos definidos por las NOBACI, con revisiones de cumplimiento semestrales y planes de mejora continua.
F25: 3.9 Instalaciones físicas remodeladas y equipadas conforme a estándares de centros de salud incrementando su capacidad resolutiva.
F26: 3.10 Implementado un sistema integral de medición y gestión de la satisfacción de usuarios, con reportes trimestrales y planes de mejora continua para elevar la calidad percibida de los servicios públicos.

Sheet PPNE2.1
Q1: Venta Servicios
G2: Servicio Nacional de Salud | U2: Anticipo Financiero
G3: Dirección de Planificación y Desarrollo | U3: Venta de Servicios
G4: Programación de Insumos | U4: Donaciones
L5: =+#REF! -> #REF!
G6: CEAS | I6: HOSPITAL GENERAL Y DE ESPECIALIDADES NUESTRA SRA. DE LA ALTAGRACIA
B7: ID_Dependendencia | C7: POA | D7: SRS | E7: AREA | F7: TIPO | G7: Código_Actividad | H7: Actividad | I7: Insumos | J7: Descripción | K7: Unidad de Medida | L7: Cantidad de Insumos | M7: Precio Unitario | N7: Valor Total | O7: Código Presupuestario | P7: Fuente de Financiamiento
B8: =IF(Tabla1[[#This Row],[Código_Actividad]]="","",CONCATENATE(Tabla1[[#This Row],[POA]],".",Tabla1[[#This Row],[SRS]],".",Tabla1[[#This Row],[AREA]],".",Tabla1[[#This Row],[TIPO]])) -> ... | G8: 1.6.5.01 | H8: =IFERROR(VLOOKUP(Tabla1[[#This Row],[Código_Actividad]],PPNE2!$C$9:$D$131,2,FALSE),"") -> Capacitaciones a RRHH de las areas de odontología de acuerdo a las necesidades. | I8: Alimentos y bebidas para personas | J8: Almuerzo tipo Buffet para 20 personas (Cristalería, Cubertería, Servilletas, Jugo, Café) | K8: =IFERROR(VLOOKUP(Tabla1[[#This Row],[Descripción]],Insumos!$C$2:$F$520,2,),"") -> unidad | L8: 3 | M8: =IFERROR(VLOOKUP(Tabla1[[#This Row],[Descripción]],Insumos!$C$2:$F$520,3,),"") -> 10133.5 | N8: =IFERROR(+Tabla1[[#This Row],[Precio Unitario]]*Tabla1[[#This Row],[Cantidad de Insumos]],0) -> 30400.5 | O8: =IFERROR(VLOOKUP(Tabla1[[#This Row],[Descripción]],Insumos!$C$2:$F$520,4,),"") -> 2.3.1.1.01 | R8: =IFERROR(VLOOKUP(Tabla1[[#This Row],[Insumos]],Insumos2!$C$5:$D$48,2,),"") -> lsAlimentosyBebidas
B9: =IF(Tabla1[[#This Row],[Código_Actividad]]="","",CONCATENATE(Tabla1[[#This Row],[POA]],".",Tabla1[[#This Row],[SRS]],".",Tabla1[[#This Row],[AREA]],".",Tabla1[[#This Row],[TIPO]])) -> ... | G9: 1.7.1.01 | H9: =IFERROR(VLOOKUP(Tabla1[[#This Row],[Código_Actividad]],PPNE2!$C$9:$D$131,2,FALSE),"") -> Reunión Comité Farmaco Terapeutico (CFT) Hospitalario y promoción del uso racional de los medicamentos. | I9: Alimentos y bebidas para personas | J9: Refrigerio tipo Buffet p/12 personas (4 Variedades, Desechables Transparentes, Jugo Natural, Servilletas, Hielo) | K9: =IFERROR(VLOOKUP(Tabla1[[#This Row],[Descripción]],Insumos!$C$2:$F$520,2,),"") -> unidad | L9: 4 | M9: =IFERROR(VLOOKUP(Tabla1[[#This Row],[Descripción]],Insumos!$C$2:$F$520,3,),"") -> 9410.5 | N9: =IFERROR(+Tabla1[[#This Row],[Precio Unitario]]*Tabla1[[#This Row],[Cantidad de Insumos]],0) -> 37642 | O9: =IFERROR(VLOOKUP(Tabla1[[#This Row],[Descripción]],Insumos!$C$2:$F$520,4,),"") -> 2.3.1.1.01 | R9: =IFERROR(VLOOKUP(Tabla1[[#This Row],[Insumos]],Insumos2!$C$5:$D$48,2,),"") -> lsAlimentosyBebidas
B10: =IF(Tabla1[[#This Row],[Código_Actividad]]="","",CONCATENATE(Tabla1[[#This Row],[POA]],".",Tabla1[[#This Row],[SRS]],".",Tabla1[[#This Row],[AREA]],".",Tabla1[[#This Row],[TIPO]])) -> ... | G10: 1.8.2.02 | H10: =IFERROR(VLOOKUP(Tabla1[[#This Row],[Código_Actividad]],PPNE2!$C$9:$D$131,2,FALSE),"") -> Socializacion e implementación del RAC-Triaje en las Salas de Emergencias Centros Hospitalarios | I10: Alimentos y bebidas para personas | J10: Refrigerio tipo Buffet p/12 personas (4 Variedades, Desechables Transparentes, Jugo Natural, Servilletas, Hielo) | K10: =IFERROR(VLOOKUP(Tabla1[[#This Row],[Descripción]],Insumos!$C$2:$F$520,2,),"") -> unidad | L10: 2 | M10: =IFERROR(VLOOKUP(Tabla1[[#This Row],[Descripción]],Insumos!$C$2:$F$520,3,),"") -> 9410.5 | N10: =IFERROR(+Tabla1[[#This Row],[Precio Unitario]]*Tabla1[[#This Row],[Cantidad de Insumos]],0) -> 18821 | O10: =IFERROR(VLOOKUP(Tabla1[[#This Row],[Descripción]],Insumos!$C$2:$F$520,4,),"") -> 2.3.1.1.01 | R10: =IFERROR(VLOOKUP(Tabla1[[#This Row],[Insumos]],Insumos2!$C$5:$D$48,2,),"") -> lsAlimentosyBebidas
B11: =IF(Tabla1[[#This Row],[Código_Actividad]]="","",CONCATENATE(Tabla1[[#This Row],[POA]],".",Tabla1[[#This Row],[SRS]],".",Tabla1[[#This Row],[AREA]],".",Tabla1[[#This Row],[TIPO]])) -> ... | G11: 1.8.2.06 | H11: =IFERROR(VLOOKUP(Tabla1[[#This Row],[Código_Actividad]],PPNE2!$C$9:$D$131,2,FALSE),"") -> Socialización de los procedimientos de traslado de pacientes | I11: Alimentos y bebidas para personas | J11: Refrigerio tipo Buffet p/12 personas (4 Variedades, Desechables Transparentes, Jugo Natural, Servilletas, Hielo) | K11: =IFERROR(VLOOKUP(Tabla1[[#This Row],[Descripción]],Insumos!$C$2:$F$520,2,),"") -> unidad | L11: 1 | M11: =IFERROR(VLOOKUP(Tabla1[[#This Row],[Descripción]],Insumos!$C$2:$F$520,3,),"") -> 9410.5 | N11: =IFERROR(+Tabla1[[#This Row],[Precio Unitario]]*Tabla1[[#This Row],[Cantidad de Insumos]],0) -> 9410.5 | O11: =IFERROR(VLOOKUP(Tabla1[[#This Row],[Descripción]],Insumos!$C$2:$F$520,4,),"") -> 2.3.1.1.01 | R11: =IFERROR(VLOOKUP(Tabla1[[#This Row],[Insumos]],Insumos2!$C$5:$D$48,2,),"") -> lsAlimentosyBebidas
B12: =IF(Tabla1[[#This Row],[Código_Actividad]]="","",CONCATENATE(Tabla1[[#This Row],[POA]],".",Tabla1[[#This Row],[SRS]],".",Tabla1[[#This Row],[AREA]],".",Tabla1[[#This Row],[TIPO]])) -> ... | G12: 1.8.2.08 | H12: =IFERROR(VLOOKUP(Tabla1[[#This Row],[Código_Actividad]],PPNE2!$C$9:$D$131,2,FALSE),"") -> Reunion del comité de emergencias para socializacion del plan Hospitalarios Emergencias de salud publica y desastres naturales con el personal del hospital. | I12: Alimentos y bebidas para personas | J12: Refrigerio tipo Buffet p/15 personas (3 Variedades, Desechables Transparentes, Jugo Natural, Servilletas, Hielo) | K12: =IFERROR(VLOOKUP(Tabla1[[#This Row],[Descripción]],Insumos!$C$2:$F$520,2,),"") -> unidad | L12: 3 | M12: =IFERROR(VLOOKUP(Tabla1[[#This Row],[Descripción]],Insumos!$C$2:$F$520,3,),"") -> 5929.5 | N12: =IFERROR(+Tabla1[[#This Row],[Precio Unitario]]*Tabla1[[#This Row],[Cantidad de Insumos]],0) -> 17788.5 | O12: =IFERROR(VLOOKUP(Tabla1[[#This Row],[Descripción]],Insumos!$C$2:$F$520,4,),"") -> 2.3.1.1.01 | R12: =IFERROR(VLOOKUP(Tabla1[[#This Row],[Insumos]],Insumos2!$C$5:$D$48,2,),"") -> lsAlimentosyBebidas
B13: =IF(Tabla1[[#This Row],[Código_Actividad]]="","",CONCATENATE(Tabla1[[#This Row],[POA]],".",Tabla1[[#This Row],[SRS]],".",Tabla1[[#This Row],[AREA]],".",Tabla1[[#This Row],[TIPO]])) -> ... | G13: 1.8.2.11 | H13: Reunion del comité de emergencias | I13: Alimentos y bebidas para personas | J13: Refrigerio tipo Buffet p/12 personas (4 Variedades, Desechables Transparentes, Jugo Natural, Servilletas, Hielo) | K13: =IFERROR(VLOOKUP(Tabla1[[#This Row],[Descripción]],Insumos!$C$2:$F$520,2,),"") -> unidad | L13: 2 | M13: =IFERROR(VLOOKUP(Tabla1[[#This Row],[Descripción]],Insumos!$C$2:$F$520,3,),"") -> 9410.5 | N13: =IFERROR(+Tabla1[[#This Row],[Precio Unitario]]*Tabla1[[#This Row],[Cantidad de Insumos]],0) -> 18821 | O13: =IFERROR(VLOOKUP(Tabla1[[#This Row],[Descripción]],Insumos!$C$2:$F$520,4,),"") -> 2.3.1.1.01 | R13: =IFERROR(VLOOKUP(Tabla1[[#This Row],[Insumos]],Insumos2!$C$5:$D$48,2,),"") -> lsAlimentosyBebidas
B14: =IF(Tabla1[[#This Row],[Código_Actividad]]="","",CONCATENATE(Tabla1[[#This Row],[POA]],".",Tabla1[[#This Row],[SRS]],".",Tabla1[[#This Row],[AREA]],".",Tabla1[[#This Row],[TIPO]])) -> ... | G14: 3.1.6.04 | H14: =IFERROR(VLOOKUP(Tabla1[[#This Row],[Código_Actividad]],PPNE2!$C$9:$D$131,2,FALSE),"") -> Elaboración y seguimiento a la ejecución de los planes de mejora acorde a los hallazgos del MEP | I14: Alimentos y bebidas para personas | J14: Refrigerio tipo Buffet p/12 personas (4 Variedades, Desechables Transparentes, Jugo Natural, Servilletas, Hielo) | K14: =IFERROR(VLOOKUP(Tabla1[[#This Row],[Descripción]],Insumos!$C$2:$F$520,2,),"") -> unidad | L14: 4 | M14: =IFERROR(VLOOKUP(Tabla1[[#This Row],[Descripción]],Insumos!$C$2:$F$520,3,),"") -> 9410.5 | N14: =IFERROR(+Tabla1[[#This Row],[Precio Unitario]]*Tabla1[[#This Row],[Cantidad de Insumos]],0) -> 37642 | O14: =IFERROR(VLOOKUP(Tabla1[[#This Row],[Descripción]],Insumos!$C$2:$F$520,4,),"") -> 2.3.1.1.01 | R14: =IFERROR(VLOOKUP(Tabla1[[#This Row],[Insumos]],Insumos2!$C$5:$D$48,2,),"") -> lsAlimentosyBebidas
B15: =IF(Tabla1[[#This Row],[Código_Actividad]]="","",CONCATENATE(Tabla1[[#This Row],[POA]],".",Tabla1[[#This Row],[SRS]],".",Tabla1[[#This Row],[AREA]],".",Tabla1[[#This Row],[TIPO]])) -> ... | G15: 3.2.1.02 | H15: =IFERROR(VLOOKUP(Tabla1[[#This Row],[Código_Actividad]],PPNE2!$C$9:$D$131,2,FALSE),"") -> Capacitación y retroalimentación en dosificación y administración de medicamentos al personal de enfermería | I15: Alimentos y bebidas para personas | J15: Refrigerio tipo Buffet p/15 personas (3 Variedades, Desechables Transparentes, Jugo Natural, Servilletas, Hielo) | K15: =IFERROR(VLOOKUP(Tabla1[[#This Row],[Descripción]],Insumos!$C$2:$F$520,2,),"") -> unidad | L15: 5 | M15: =IFERROR(VLOOKUP(Tabla1[[#This Row],[Descripción]],Insumos!$C$2:$F$520,3,),"") -> 5929.5 | N15: =IFERROR(+Tabla1[[#This Row],[Precio Unitario]]*Tabla1[[#This Row],[Cantidad de Insumos]],0) -> 29647.5 | O15: =IFERROR(VLOOKUP(Tabla1[[#This Row],[Descripción]],Insumos!$C$2:$F$520,4,),"") -> 2.3.1.1.01 | R15: =IFERROR(VLOOKUP(Tabla1[[#This Row],[Insumos]],Insumos2!$C$5:$D$48,2,),"") -> lsAlimentosyBebidas
B16: =IF(Tabla1[[#This Row],[Código_Actividad]]="","",CONCATENATE(Tabla1[[#This Row],[POA]],".",Tabla1[[#This Row],[SRS]],".",Tabla1[[#This Row],[AREA]],".",Tabla1[[#This Row],[TIPO]])) | H16: =IFERROR(VLOOKUP(Tabla1[[#This Row],[Código_Actividad]],PPNE2!$C$9:$D$131,2,FALSE),"") | K16: =IFERROR(VLOOKUP(Tabla1[[#This Row],[Descripción]],Insumos!$C$2:$F$520,2,),"") | M16: =IFERROR(VLOOKUP(Tabla1[[#This Row],[Descripción]],Insumos!$C$2:$F$520,3,),"") | N16: =IFERROR(+Tabla1[[#This Row],[Precio Unitario]]*Tabla1[[#This Row],[Cantidad de Insumos]],0) -> 0 | O16: =IFERROR(VLOOKUP(Tabla1[[#This Row],[Descripción]],Insumos!$C$2:$F$520,4,),"") | R16: =IFERROR(VLOOKUP(Tabla1[[#This Row],[Insumos]],Insumos2!$C$5:$D$48,2,),"")
B17: =IF(Tabla1[[#This Row],[Código_Actividad]]="","",CONCATENATE(Tabla1[[#This Row],[POA]],".",Tabla1[[#This Row],[SRS]],".",Tabla1[[#This Row],[AREA]],".",Tabla1[[#This Row],[TIPO]])) | H17: =IFERROR(VLOOKUP(Tabla1[[#This Row],[Código_Actividad]],PPNE2!$C$9:$D$131,2,FALSE),"") | K17: =IFERROR(VLOOKUP(Tabla1[[#This Row],[Descripción]],Insumos!$C$2:$F$520,2,),"") | M17: =IFERROR(VLOOKUP(Tabla1[[#This Row],[Descripción]],Insumos!$C$2:$F$520,3,),"") | N17: =IFERROR(+Tabla1[[#This Row],[Precio Unitario]]*Tabla1[[#This Row],[Cantidad de Insumos]],0) -> 0 | O17: =IFERROR(VLOOKUP(Tabla1[[#This Row],[Descripción]],Insumos!$C$2:$F$520,4,),"") | R17: =IFERROR(VLOOKUP(Tabla1[[#This Row],[Insumos]],Insumos2!$C$5:$D$48,2,),"")
B18: =IF(Tabla1[[#This Row],[Código_Actividad]]="","",CONCATENATE(Tabla1[[#This Row],[POA]],".",Tabla1[[#This Row],[SRS]],".",Tabla1[[#This Row],[AREA]],".",Tabla1[[#This Row],[TIPO]])) | H18: =IFERROR(VLOOKUP(Tabla1[[#This Row],[Código_Actividad]],PPNE2!$C$9:$D$131,2,FALSE),"") | K18: =IFERROR(VLOOKUP(Tabla1[[#This Row],[Descripción]],Insumos!$C$2:$F$520,2,),"") | M18: =IFERROR(VLOOKUP(Tabla1[[#This Row],[Descripción]],Insumos!$C$2:$F$520,3,),"") | N18: =IFERROR(+Tabla1[[#This Row],[Precio Unitario]]*Tabla1[[#This Row],[Cantidad de Insumos]],0) -> 0 | O18: =IFERROR(VLOOKUP(Tabla1[[#This Row],[Descripción]],Insumos!$C$2:$F$520,4,),"") | R18: =IFERROR(VLOOKUP(Tabla1[[#This Row],[Insumos]],Insumos2!$C$5:$D$48,2,),"")
B19: =IF(Tabla1[[#This Row],[Código_Actividad]]="","",CONCATENATE(Tabla1[[#This Row],[POA]],".",Tabla1[[#This Row],[SRS]],".",Tabla1[[#This Row],[AREA]],".",Tabla1[[#This Row],[TIPO]])) | H19: =IFERROR(VLOOKUP(Tabla1[[#This Row],[Código_Actividad]],PPNE2!$C$9:$D$131,2,FALSE),"") | K19: =IFERROR(VLOOKUP(Tabla1[[#This Row],[Descripción]],Insumos!$C$2:$F$520,2,),"") | M19: =IFERROR(VLOOKUP(Tabla1[[#This Row],[Descripción]],Insumos!$C$2:$F$520,3,),"") | N19: =IFERROR(+Tabla1[[#This Row],[Precio Unitario]]*Tabla1[[#This Row],[Cantidad de Insumos]],0) -> 0 | O19: =IFERROR(VLOOKUP(Tabla1[[#This Row],[Descripción]],Insumos!$C$2:$F$520,4,),"") | R19: =IFERROR(VLOOKUP(Tabla1[[#This Row],[Insumos]],Insumos2!$C$5:$D$48,2,),"")
B20: =IF(Tabla1[[#This Row],[Código_Actividad]]="","",CONCATENATE(Tabla1[[#This Row],[POA]],".",Tabla1[[#This Row],[SRS]],".",Tabla1[[#This Row],[AREA]],".",Tabla1[[#This Row],[TIPO]])) | H20: =IFERROR(VLOOKUP(Tabla1[[#This Row],[Código_Actividad]],PPNE2!$C$9:$D$131,2,FALSE),"") | K20: =IFERROR(VLOOKUP(Tabla1[[#This Row],[Descripción]],Insumos!$C$2:$F$520,2,),"") | M20: =IFERROR(VLOOKUP(Tabla1[[#This Row],[Descripción]],Insumos!$C$2:$F$520,3,),"") | N20: =IFERROR(+Tabla1[[#This Row],[Precio Unitario]]*Tabla1[[#This Row],[Cantidad de Insumos]],0) -> 0 | O20: =IFERROR(VLOOKUP(Tabla1[[#This Row],[Descripción]],Insumos!$C$2:$F$520,4,),"") | R20: =IFERROR(VLOOKUP(Tabla1[[#This Row],[Insumos]],Insumos2!$C$5:$D$48,2,),"")
B21: =IF(Tabla1[[#This Row],[Código_Actividad]]="","",CONCATENATE(Tabla1[[#This Row],[POA]],".",Tabla1[[#This Row],[SRS]],".",Tabla1[[#This Row],[AREA]],".",Tabla1[[#This Row],[TIPO]])) | H21: =IFERROR(VLOOKUP(Tabla1[[#This Row],[Código_Actividad]],PPNE2!$C$9:$D$131,2,FALSE),"") | K21: =IFERROR(VLOOKUP(Tabla1[[#This Row],[Descripción]],Insumos!$C$2:$F$520,2,),"") | M21: =IFERROR(VLOOKUP(Tabla1[[#This Row],[Descripción]],Insumos!$C$2:$F$520,3,),"") | N21: =IFERROR(+Tabla1[[#This Row],[Precio Unitario]]*Tabla1[[#This Row],[Cantidad de Insumos]],0) -> 0 | O21: =IFERROR(VLOOKUP(Tabla1[[#This Row],[Descripción]],Insumos!$C$2:$F$520,4,),"") | R21: =IFERROR(VLOOKUP(Tabla1[[#This Row],[Insumos]],Insumos2!$C$5:$D$48,2,),"")
B22: =IF(Tabla1[[#This Row],[Código_Actividad]]="","",CONCATENATE(Tabla1[[#This Row],[POA]],".",Tabla1[[#This Row],[SRS]],".",Tabla1[[#This Row],[AREA]],".",Tabla1[[#This Row],[TIPO]])) | H22: =IFERROR(VLOOKUP(Tabla1[[#This Row],[Código_Actividad]],PPNE2!$C$9:$D$131,2,FALSE),"") | K22: =IFERROR(VLOOKUP(Tabla1[[#This Row],[Descripción]],Insumos!$C$2:$F$520,2,),"") | M22: =IFERROR(VLOOKUP(Tabla1[[#This Row],[Descripción]],Insumos!$C$2:$F$520,3,),"") | N22: =IFERROR(+Tabla1[[#This Row],[Precio Unitario]]*Tabla1[[#This Row],[Cantidad de Insumos]],0) -> 0 | O22: =IFERROR(VLOOKUP(Tabla1[[#This Row],[Descripción]],Insumos!$C$2:$F$520,4,),"") | R22: =IFERROR(VLOOKUP(Tabla1[[#This Row],[Insumos]],Insumos2!$C$5:$D$48,2,),"")
B23: =IF(Tabla1[[#This Row],[Código_Actividad]]="","",CONCATENATE(Tabla1[[#This Row],[POA]],".",Tabla1[[#This Row],[SRS]],".",Tabla1[[#This Row],[AREA]],".",Tabla1[[#This Row],[TIPO]])) | H23: =IFERROR(VLOOKUP(Tabla1[[#This Row],[Código_Actividad]],PPNE2!$C$9:$D$131,2,FALSE),"") | K23: =IFERROR(VLOOKUP(Tabla1[[#This Row],[Descripción]],Insumos!$C$2:$F$520,2,),"") | M23: =IFERROR(VLOOKUP(Tabla1[[#This Row],[Descripción]],Insumos!$C$2:$F$520,3,),"") | N23: =IFERROR(+Tabla1[[#This Row],[Precio Unitario]]*Tabla1[[#This Row],[Cantidad de Insumos]],0) -> 0 | O23: =IFERROR(VLOOKUP(Tabla1[[#This Row],[Descripción]],Insumos!$C$2:$F$520,4,),"") | R23: =IFERROR(VLOOKUP(Tabla1[[#This Row],[Insumos]],Insumos2!$C$5:$D$48,2,),"")
B24: =IF(Tabla1[[#This Row],[Código_Actividad]]="","",CONCATENATE(Tabla1[[#This Row],[POA]],".",Tabla1[[#This Row],[SRS]],".",Tabla1[[#This Row],[AREA]],".",Tabla1[[#This Row],[TIPO]])) | H24: =IFERROR(VLOOKUP(Tabla1[[#This Row],[Código_Actividad]],PPNE2!$C$9:$D$131,2,FALSE),"") | K24: =IFERROR(VLOOKUP(Tabla1[[#This Row],[Descripción]],Insumos!$C$2:$F$520,2,),"") | M24: =IFERROR(VLOOKUP(Tabla1[[#This Row],[Descripción]],Insumos!$C$2:$F$520,3,),"") | N24: =IFERROR(+Tabla1[[#This Row],[Precio Unitario]]*Tabla1[[#This Row],[Cantidad de Insumos]],0) -> 0 | O24: =IFERROR(VLOOKUP(Tabla1[[#This Row],[Descripción]],Insumos!$C$2:$F$520,4,),"") | R24: =IFERROR(VLOOKUP(Tabla1[[#This Row],[Insumos]],Insumos2!$C$5:$D$48,2,),"")
B25: =IF(Tabla1[[#This Row],[Código_Actividad]]="","",CONCATENATE(Tabla1[[#This Row],[POA]],".",Tabla1[[#This Row],[SRS]],".",Tabla1[[#This Row],[AREA]],".",Tabla1[[#This Row],[TIPO]])) | H25: =IFERROR(VLOOKUP(Tabla1[[#This Row],[Código_Actividad]],PPNE2!$C$9:$D$131,2,FALSE),"") | K25: =IFERROR(VLOOKUP(Tabla1[[#This Row],[Descripción]],Insumos!$C$2:$F$520,2,),"") | M25: =IFERROR(VLOOKUP(Tabla1[[#This Row],[Descripción]],Insumos!$C$2:$F$520,3,),"") | N25: =IFERROR(+Tabla1[[#This Row],[Precio Unitario]]*Tabla1[[#This Row],[Cantidad de Insumos]],0) -> 0 | O25: =IFERROR(VLOOKUP(Tabla1[[#This Row],[Descripción]],Insumos!$C$2:$F$520,4,),"") | R25: =IFERROR(VLOOKUP(Tabla1[[#This Row],[Insumos]],Insumos2!$C$5:$D$48,2,),"")
B26: =IF(Tabla1[[#This Row],[Código_Actividad]]="","",CONCATENATE(Tabla1[[#This Row],[POA]],".",Tabla1[[#This Row],[SRS]],".",Tabla1[[#This Row],[AREA]],".",Tabla1[[#This Row],[TIPO]])) | H26: =IFERROR(VLOOKUP(Tabla1[[#This Row],[Código_Actividad]],PPNE2!$C$9:$D$131,2,FALSE),"") | K26: =IFERROR(VLOOKUP(Tabla1[[#This Row],[Descripción]],Insumos!$C$2:$F$520,2,),"") | M26: =IFERROR(VLOOKUP(Tabla1[[#This Row],[Descripción]],Insumos!$C$2:$F$520,3,),"") | N26: =IFERROR(+Tabla1[[#This Row],[Precio Unitario]]*Tabla1[[#This Row],[Cantidad de Insumos]],0) -> 0 | O26: =IFERROR(VLOOKUP(Tabla1[[#This Row],[Descripción]],Insumos!$C$2:$F$520,4,),"") | R26: =IFERROR(VLOOKUP(Tabla1[[#This Row],[Insumos]],Insumos2!$C$5:$D$48,2,),"")
B27: =IF(Tabla1[[#This Row],[Código_Actividad]]="","",CONCATENATE(Tabla1[[#This Row],[POA]],".",Tabla1[[#This Row],[SRS]],".",Tabla1[[#This Row],[AREA]],".",Tabla1[[#This Row],[TIPO]])) | H27: =IFERROR(VLOOKUP(Tabla1[[#This Row],[Código_Actividad]],PPNE2!$C$9:$D$131,2,FALSE),"") | K27: =IFERROR(VLOOKUP(Tabla1[[#This Row],[Descripción]],Insumos!$C$2:$F$520,2,),"") | M27: =IFERROR(VLOOKUP(Tabla1[[#This Row],[Descripción]],Insumos!$C$2:$F$520,3,),"") | N27: =IFERROR(+Tabla1[[#This Row],[Precio Unitario]]*Tabla1[[#This Row],[Cantidad de Insumos]],0) -> 0 | O27: =IFERROR(VLOOKUP(Tabla1[[#This Row],[Descripción]],Insumos!$C$2:$F$520,4,),"") | R27: =IFERROR(VLOOKUP(Tabla1[[#This Row],[Insumos]],Insumos2!$C$5:$D$48,2,),"")
... B214: =IF(Tabla1[[#This Row],[Código_Actividad]]="","",CONCATENATE(Tabla1[[#This Row],[POA]],".",Tabla1[[#This Row],[SRS]],".",Tabla1[[#This Row],[AREA]],".",Tabla1[[#This Row],[TIPO]])) | H214: =IFERROR(VLOOKUP(Tabla1[[#This Row],[Código_Actividad]],PPNE2!$C$9:$D$131,2,FALSE),"") | K214: =IFERROR(VLOOKUP(Tabla1[[#This Row],[Descripción]],Insumos!$C$2:$F$520,2,),"") | M214: =IFERROR(VLOOKUP(Tabla1[[#This Row],[Descripción]],Insumos!$C$2:$F$520,3,),"") | N214: =IFERROR(+Tabla1[[#This Row],[Precio Unitario]]*Tabla1[[#This Row],[Cantidad de Insumos]],0) -> 0 | O214: =IFERROR(VLOOKUP(Tabla1[[#This Row],[Descripción]],Insumos!$C$2:$F$520,4,),"") | R214: =IFERROR(VLOOKUP(Tabla1[[#This Row],[Insumos]],Insumos2!$C$5:$D$48,2,),"")

Sheet PPNE3 
A2: SERVICIOS NACIONAL DE SALUD
A3: DIRECCION DE PLANIFICACION Y DESARROLLO
A4: Estimación de Ingresos
A5: 2026
A6: Servicio Regional de Salud: | E6: REGION YUMA
A7: CEAS: | E7: HOSPITAL GENERAL Y DE ESPECIALIDADES NUESTRA SRA. DE LA ALTAGRACIA
A8: Grupo | B8: Subgrupo | C8: Cuenta | D8: Auxiliar | E8: Descripción Ingresos por Cuenta | F8: Valor RD$ | G8: %
A9: 3 | E9: Donaciones | F9: =+F10 -> 0 | G9: =G10 -> 0
B10: 31 | E10: Donaciones Corrientes | F10: =SUM(F11:F11) -> 0 | G10: =G11 -> 0
C11: 312 | E11: Donaciones corrientes de organismos internacionales | F11: 0 | G11: =IFERROR(F11/$F$31*100,"0.00") -> 0
A12: 4 | E12: Transferencias | F12: =+F13+F19 -> 403548530 | G12: =G13+G19 -> 85.579427
B13: 41 | E13: Transferencias Corrientes | F13: =SUM(F15:F18) -> 403548530 | G13: =SUM(G15:G18) -> 85.579427
C14: 413 | E14: Transferencias Corrientes Recibidas de Instituciones Públicas Descentralizas y Autonomas No Financieras | F14: =SUM(F16:F19) -> 293148530 | G14: =SUM(G16:G19) -> 62.167203
C15: 413 | D15: ´01 | E15: Aportes SNS Nomina | F15: 110400000 | G15: =IFERROR(F15/$F$31*100,"0.00") -> 23.412224
C16: 413 | D16: ´02 | E16: Anticipos Financieros | F16: 0 | G16: =IFERROR(F16/$F$31*100,"0.00") -> 0
C17: 413 | D17: ´03 | E17: Aportes SNS Medicamentos | F17: 0 | G17: =IFERROR(F17/$F$31*100,"0.00") -> 0
